BEGIN:VCALENDAR
VERSION:2.0
PRODID:-//ADOARH - ECPv6.15.20//NONSGML v1.0//EN
CALSCALE:GREGORIAN
METHOD:PUBLISH
X-ORIGINAL-URL:https://adoarh.org
X-WR-CALDESC:Eventos para ADOARH
REFRESH-INTERVAL;VALUE=DURATION:PT1H
X-Robots-Tag:noindex
X-PUBLISHED-TTL:PT1H
BEGIN:VTIMEZONE
TZID:America/Santo_Domingo
BEGIN:STANDARD
TZOFFSETFROM:-0400
TZOFFSETTO:-0400
TZNAME:AST
DTSTART:20180101T000000
END:STANDARD
END:VTIMEZONE
BEGIN:VEVENT
DTSTART;VALUE=DATE:20220504
DTEND;VALUE=DATE:20220507
DTSTAMP:20260423T225430
CREATED:20230414T143414Z
LAST-MODIFIED:20230913T203217Z
UID:12574-1651622400-1651881599@adoarh.org
SUMMARY:Congreso CIGEH 2022
DESCRIPTION:https://adoarh.org/wp-content/uploads/resumen-general-cigeh-patrocinadores-opt.mp4
URL:https://adoarh.org/evento/congreso-cigeh-2022/
CATEGORIES:Congreso ADOARH
ATTACH;FMTTYPE=image/jpeg:https://adoarh.org/wp-content/uploads/CIGEH.jpg
END:VEVENT
BEGIN:VEVENT
DTSTART;TZID=America/Santo_Domingo:20220326T090000
DTEND;TZID=America/Santo_Domingo:20220326T130000
DTSTAMP:20260423T225430
CREATED:20230508T152600Z
LAST-MODIFIED:20230508T153809Z
UID:13404-1648285200-1648299600@adoarh.org
SUMMARY:Modalidades de pagos y aplicaciones
DESCRIPTION:
URL:https://adoarh.org/evento/modalidades-de-pagos-y-aplicaciones/
LOCATION:Zoom\, Virtual
CATEGORIES:ADOARH Academy
ATTACH;FMTTYPE=image/jpeg:https://adoarh.org/wp-content/uploads/Post-Mod.-4.jpg
END:VEVENT
BEGIN:VEVENT
DTSTART;VALUE=DATE:20210614
DTEND;VALUE=DATE:20210615
DTSTAMP:20260423T225430
CREATED:20230725T183350Z
LAST-MODIFIED:20230725T183350Z
UID:13897-1623628800-1623715199@adoarh.org
SUMMARY:Celebremos la vida
DESCRIPTION:Reserva tu cupo \nZona Norte 14 de junio \nZona Este 18 de junio \nSanto Domingo 28 de junio
URL:https://adoarh.org/evento/celebremos-la-vida/
CATEGORIES:After Work
ATTACH;FMTTYPE=image/jpeg:https://adoarh.org/wp-content/uploads/ADOARH-After-Work-9-JUN-2021.jpeg
ORGANIZER;CN="ADOARH":MAILTO:info@adoarh.org
END:VEVENT
BEGIN:VEVENT
DTSTART;VALUE=DATE:20210614
DTEND;VALUE=DATE:20210615
DTSTAMP:20260423T225430
CREATED:20230725T183350Z
LAST-MODIFIED:20230725T183350Z
UID:13897-1623628800-1623715199@adoarh.org
SUMMARY:Celebremos la vida
DESCRIPTION:Reserva tu cupo \nZona Norte 14 de junio \nZona Este 18 de junio \nSanto Domingo 28 de junio
URL:https://adoarh.org/evento/celebremos-la-vida/
CATEGORIES:After Work
ATTACH;FMTTYPE=image/jpeg:https://adoarh.org/wp-content/uploads/ADOARH-After-Work-9-JUN-2021.jpeg
ORGANIZER;CN="ADOARH":MAILTO:info@adoarh.org
END:VEVENT
BEGIN:VEVENT
DTSTART;VALUE=DATE:20210614
DTEND;VALUE=DATE:20210615
DTSTAMP:20260423T225430
CREATED:20230725T183350Z
LAST-MODIFIED:20230725T183350Z
UID:13897-1623628800-1623715199@adoarh.org
SUMMARY:Celebremos la vida
DESCRIPTION:Reserva tu cupo \nZona Norte 14 de junio \nZona Este 18 de junio \nSanto Domingo 28 de junio
URL:https://adoarh.org/evento/celebremos-la-vida/
CATEGORIES:After Work
ATTACH;FMTTYPE=image/jpeg:https://adoarh.org/wp-content/uploads/ADOARH-After-Work-9-JUN-2021.jpeg
ORGANIZER;CN="ADOARH":MAILTO:info@adoarh.org
END:VEVENT
BEGIN:VEVENT
DTSTART;TZID=America/Santo_Domingo:20210518T193000
DTEND;TZID=America/Santo_Domingo:20210518T213000
DTSTAMP:20260423T225430
CREATED:20230725T183635Z
LAST-MODIFIED:20230725T183635Z
UID:13901-1621366200-1621373400@adoarh.org
SUMMARY:ADOARH After Work Cine Forum
DESCRIPTION:PELíCULA:\nLos Becarios\nMartes 18 de mayo\nZoom | 7:30 p.m.\nActividad para miembros\nCupo limitado\nMODERADOR:\nSalvador Espinal
URL:https://adoarh.org/evento/adoarh-after-work-cine-forum/
LOCATION:Zoom\, Virtual
CATEGORIES:After Work
ATTACH;FMTTYPE=image/jpeg:https://adoarh.org/wp-content/uploads/ADOARH-Afterwork-Cine-Forum-18-MAY-2021.jpg
ORGANIZER;CN="ADOARH":MAILTO:info@adoarh.org
END:VEVENT
BEGIN:VEVENT
DTSTART;TZID=America/Santo_Domingo:20210422T193000
DTEND;TZID=America/Santo_Domingo:20210422T193000
DTSTAMP:20260423T225430
CREATED:20230413T214454Z
LAST-MODIFIED:20230413T214522Z
UID:12539-1619119800-1619119800@adoarh.org
SUMMARY:Masterclass Salario Emocional
DESCRIPTION:
URL:https://adoarh.org/evento/adoarh-talks-masterclass-salario-emocional/
LOCATION:Youtube
CATEGORIES:ADOARH Talks
ATTACH;FMTTYPE=image/jpeg:https://adoarh.org/wp-content/uploads/Adoarh-Talks.jpg
END:VEVENT
BEGIN:VEVENT
DTSTART;TZID=America/Santo_Domingo:20210325T193000
DTEND;TZID=America/Santo_Domingo:20210325T213000
DTSTAMP:20260423T225430
CREATED:20230725T183816Z
LAST-MODIFIED:20230725T184002Z
UID:13904-1616700600-1616707800@adoarh.org
SUMMARY:32 Aniversarios - Celebración ADOARH
DESCRIPTION:
URL:https://adoarh.org/evento/32-aniversarios-celebracion-adoarh/
LOCATION:Zoom\, Virtual
CATEGORIES:After Work
ATTACH;FMTTYPE=image/jpeg:https://adoarh.org/wp-content/uploads/Aniversario-AfterWork-25-Marzo-2021.jpg
ORGANIZER;CN="ADOARH":MAILTO:info@adoarh.org
END:VEVENT
BEGIN:VEVENT
DTSTART;VALUE=DATE:20201202
DTEND;VALUE=DATE:20201203
DTSTAMP:20260423T225430
CREATED:20230418T161353Z
LAST-MODIFIED:20230418T161855Z
UID:12621-1606867200-1606953599@adoarh.org
SUMMARY:Resolución 23-2020 sobre el Teletrabajo
DESCRIPTION:
URL:https://adoarh.org/evento/resolucion-23-2020-sobre-el-teletrabajo/
LOCATION:Youtube
CATEGORIES:ADOARH Talks
ATTACH;FMTTYPE=image/jpeg:https://adoarh.org/wp-content/uploads/sddefault.jpg
END:VEVENT
BEGIN:VEVENT
DTSTART;VALUE=DATE:20201127
DTEND;VALUE=DATE:20201128
DTSTAMP:20260423T225430
CREATED:20230418T161534Z
LAST-MODIFIED:20230418T161534Z
UID:12657-1606435200-1606521599@adoarh.org
SUMMARY:Diferenciación de Tiempos de Comunicación Digital
DESCRIPTION:
URL:https://adoarh.org/evento/diferenciacion-de-tiempos-de-comunicacion-digital/
LOCATION:A traves de Facebook Live
CATEGORIES:ADOARH Talks
ATTACH;FMTTYPE=image/jpeg:https://adoarh.org/wp-content/uploads/Difrenciacion.jpg
END:VEVENT
BEGIN:VEVENT
DTSTART;VALUE=DATE:20201104
DTEND;VALUE=DATE:20201105
DTSTAMP:20260423T225430
CREATED:20230413T214732Z
LAST-MODIFIED:20230413T214732Z
UID:12544-1604448000-1604534399@adoarh.org
SUMMARY:El famoso clic de la entrevista
DESCRIPTION:
URL:https://adoarh.org/evento/el-famoso-clic-de-la-entrevista/
LOCATION:A traves de Facebook Live
CATEGORIES:ADOARH Talks
ATTACH;FMTTYPE=image/jpeg:https://adoarh.org/wp-content/uploads/El-famoso-clic.jpg
END:VEVENT
BEGIN:VEVENT
DTSTART;VALUE=DATE:20190405
DTEND;VALUE=DATE:20190408
DTSTAMP:20260423T225430
CREATED:20230413T210604Z
LAST-MODIFIED:20230414T143007Z
UID:12500-1554422400-1554681599@adoarh.org
SUMMARY:Congreso ADOARH 2019
DESCRIPTION:
URL:https://adoarh.org/evento/congreso-adoarh/
CATEGORIES:Congreso ADOARH
ATTACH;FMTTYPE=image/png:https://adoarh.org/wp-content/uploads/Congreso-Adoarh.png
END:VEVENT
END:VCALENDAR