BEGIN:VCALENDAR
VERSION:2.0
PRODID:-//ADOARH - ECPv6.15.20//NONSGML v1.0//EN
CALSCALE:GREGORIAN
METHOD:PUBLISH
X-WR-CALNAME:ADOARH
X-ORIGINAL-URL:https://adoarh.org
X-WR-CALDESC:Eventos para ADOARH
REFRESH-INTERVAL;VALUE=DURATION:PT1H
X-Robots-Tag:noindex
X-PUBLISHED-TTL:PT1H
BEGIN:VTIMEZONE
TZID:America/Santo_Domingo
BEGIN:STANDARD
TZOFFSETFROM:-0400
TZOFFSETTO:-0400
TZNAME:AST
DTSTART:20210101T000000
END:STANDARD
END:VTIMEZONE
BEGIN:VEVENT
DTSTART;TZID=America/Santo_Domingo:20230429T090000
DTEND;TZID=America/Santo_Domingo:20230429T130000
DTSTAMP:20260423T182604
CREATED:20230901T203512Z
LAST-MODIFIED:20230901T203512Z
UID:14171-1682758800-1682773200@adoarh.org
SUMMARY:Nomina\, Modalidades de Pagos y Aplicaciones 2023
DESCRIPTION:
URL:https://adoarh.org/evento/nomina-modalidades-de-pagos-y-aplicaciones-2023/
LOCATION:Zoom\, Virtual
CATEGORIES:ADOARH Academy
ATTACH;FMTTYPE=image/jpeg:https://adoarh.org/wp-content/uploads/Adoarh-Academy-Modulo-4-Martha.jpg
END:VEVENT
BEGIN:VEVENT
DTSTART;TZID=America/Santo_Domingo:20230914T180000
DTEND;TZID=America/Santo_Domingo:20230914T180000
DTSTAMP:20260423T182604
CREATED:20231016T213731Z
LAST-MODIFIED:20231016T214821Z
UID:14704-1694714400-1694714400@adoarh.org
SUMMARY:Conferencia Habilidades Vs
DESCRIPTION:PC2 Habilidades Socioemocionales\n				\n			\n				\n			\n				\n				PC3 Habilidades Socioemocionales\n				\n			\n				\n			\n				\n				PC4 Habilidades Socioemocionales\n				\n			\n				\n			\n				\n				PC5 Habilidades Socioemocionales\n				\n			\n				\n			\n				\n				PC6 Habilidades Socioemocionales\n				\n			\n				\n			\n				\n				PC7 Habilidades Socioemocionales\n				\n			\n				\n			\n				\n				PC8 Habilidades Socioemocionales\n				\n			\n				\n			\n				\n				PC9 Habilidades Socioemocionales\n				\n			\n				\n			\n				\n				PC10 Habilidades Socioemocionales
URL:https://adoarh.org/evento/conferencia-habilidades-vs/
LOCATION:Centro de Convenciones y Cultura Dominicana\, República Dominicana
CATEGORIES:Otros
ATTACH;FMTTYPE=image/jpeg:https://adoarh.org/wp-content/uploads/14-Conferencia-Habilidades-Vs.jpg
ORGANIZER;CN="ADOARH":MAILTO:info@adoarh.org
END:VEVENT
BEGIN:VEVENT
DTSTART;TZID=America/Santo_Domingo:20230415T090000
DTEND;TZID=America/Santo_Domingo:20230415T130000
DTSTAMP:20260423T182604
CREATED:20230901T203354Z
LAST-MODIFIED:20230901T203354Z
UID:14168-1681549200-1681563600@adoarh.org
SUMMARY:Cómo Elabarorar Descripciones de Puestos 2023
DESCRIPTION:
URL:https://adoarh.org/evento/como-elabarorar-descripciones-de-puestos-2023/
LOCATION:Zoom\, Virtual
CATEGORIES:ADOARH Academy
ATTACH;FMTTYPE=image/jpeg:https://adoarh.org/wp-content/uploads/Adoarh-Academy-Modulo-3-Tania.jpg
END:VEVENT
BEGIN:VEVENT
DTSTART;TZID=America/Santo_Domingo:20230901T170000
DTEND;TZID=America/Santo_Domingo:20230901T170000
DTSTAMP:20260423T182604
CREATED:20231016T214301Z
LAST-MODIFIED:20231016T214615Z
UID:14707-1693587600-1693587600@adoarh.org
SUMMARY:BUENAS PRACTICAS DE GESTION HUMANA en el Sector Turismo de la Zona Este
DESCRIPTION:2. Buenas practicas GH\n				\n			\n				\n			\n				\n				3. Buenas practicas GH\n				\n			\n				\n			\n				\n				4. Buenas practicas GH\n				\n			\n				\n			\n				\n				5. Buenas practicas GH\n				\n			\n				\n			\n				\n				6. Buenas practicas GH\n				\n			\n				\n			\n				\n				7. Buenas practicas GH\n				\n			\n				\n			\n				\n				8. Buenas practicas GH\n				\n			\n				\n			\n				\n				9. Buenas practicas GH\n				\n			\n				\n			\n				\n				10. Buenas practicas GH
URL:https://adoarh.org/evento/buenas-practicas-de-gestion-humana-en-el-sector-turismo-de-la-zona-este/
LOCATION:PYHEX WORK\, Punta Cana
CATEGORIES:Otros
ATTACH;FMTTYPE=image/jpeg:https://adoarh.org/wp-content/uploads/1-Buenas-practicas-GH.jpg
ORGANIZER;CN="ADOARH":MAILTO:info@adoarh.org
END:VEVENT
BEGIN:VEVENT
DTSTART;TZID=America/Santo_Domingo:20230325T090000
DTEND;TZID=America/Santo_Domingo:20230325T130000
DTSTAMP:20260423T182604
CREATED:20230901T203024Z
LAST-MODIFIED:20230901T203024Z
UID:14165-1679734800-1679749200@adoarh.org
SUMMARY:Entrevista Basada en Competencia 2023
DESCRIPTION:
URL:https://adoarh.org/evento/entrevista-basada-en-competencia-2023/
LOCATION:Zoom\, Virtual
CATEGORIES:ADOARH Academy
ATTACH;FMTTYPE=image/jpeg:https://adoarh.org/wp-content/uploads/Adoarh-Academy-Modulo-2-Neyda.jpg
END:VEVENT
BEGIN:VEVENT
DTSTART;TZID=America/Santo_Domingo:20230826T090000
DTEND;TZID=America/Santo_Domingo:20230826T130000
DTSTAMP:20260423T182604
CREATED:20230901T195122Z
LAST-MODIFIED:20230901T195122Z
UID:14132-1693040400-1693054800@adoarh.org
SUMMARY:Entrevista Basada en Competencia 2da 2023
DESCRIPTION:Temas a tratar en este módulo:\n\nLectura de los Curriculums Vitae.\nQué buscar en los candidatos.\nCómo formular preguntas claves en la entrevista.\nTipos de entrevista de selección.\nTécnica de la Entrevista por Competencias.\nAspectos para la contratación e inducción.
URL:https://adoarh.org/evento/entrevista-basada-en-competencia-2da-2023/
LOCATION:Zoom\, Virtual
CATEGORIES:ADOARH Academy
ATTACH;FMTTYPE=image/jpeg:https://adoarh.org/wp-content/uploads/Adoarh-Academy-Modulo-2-Entrevista-Basada-en-Competencia-1.jpg
END:VEVENT
BEGIN:VEVENT
DTSTART;TZID=America/Santo_Domingo:20230819T090000
DTEND;TZID=America/Santo_Domingo:20230819T130000
DTSTAMP:20260423T182604
CREATED:20230901T202549Z
LAST-MODIFIED:20230901T202549Z
UID:14162-1692435600-1692450000@adoarh.org
SUMMARY:Selección a la medida 2023
DESCRIPTION:Temas a tratar en este módulo:\n\nCómo atraer buenos candidatos.\nFuentes creativas de captación de talentos.\nHerramientas de evaluaciones psicométricas en línea.\nSeleccionando a los mejores para la terna.
URL:https://adoarh.org/evento/seleccion-a-la-medida-2023/
LOCATION:Zoom\, Virtual
CATEGORIES:ADOARH Academy
ATTACH;FMTTYPE=image/jpeg:https://adoarh.org/wp-content/uploads/Adoarh-Academy-Modulo-1-Lourdes.jpg
END:VEVENT
BEGIN:VEVENT
DTSTART;VALUE=DATE:20230819
DTEND;VALUE=DATE:20231126
DTSTAMP:20260423T182604
CREATED:20230901T192918Z
LAST-MODIFIED:20230913T143446Z
UID:14108-1692403200-1700956799@adoarh.org
SUMMARY:Calendario Módulo Adoarh Academy 2023
DESCRIPTION:
URL:https://adoarh.org/evento/calendario-modulo-adoarh-academy-2da-2023/
CATEGORIES:ADOARH Academy
ATTACH;FMTTYPE=image/jpeg:https://adoarh.org/wp-content/uploads/Adoarh-Calendario-Adoarh-Academy-AGO-NOV-2023-1.jpg
END:VEVENT
BEGIN:VEVENT
DTSTART;TZID=America/Santo_Domingo:20230810T160000
DTEND;TZID=America/Santo_Domingo:20230810T160000
DTSTAMP:20260423T182604
CREATED:20230725T193245Z
LAST-MODIFIED:20230725T193245Z
UID:13922-1691683200-1691683200@adoarh.org
SUMMARY:HACIA LA NUEVA NATURALEZA LOS IMPACTOS Y LOS CAMBIOS DE LA 4TA. REVOLUCIÓN INDUSTRIAL
DESCRIPTION:🎤 ¡No te pierdas este ADOARH Talks 📅 Anota la fecha: Agosto 10 a las 4:00 pm. \n🎙️ Tenemos el honor de contar con dos destacados expertos:\n🎯 Moderador: Eladio Uribe.\n🗣️ Expositor: Paul Rosillón \n🌐 Tema: “Hacia la Nueva Naturaleza\, los Impactos y los Cambios de la 4ta. Revolución Industrial.” \nPaul Rosillón es miembro fundador del Centro de Estudios Persona y Empresa de la Universidad Monteávila de Venezuela y ex-presidente de FIDAGH\, lo cual lo convierte en un referente en la materia. \n¡Regístrate ahora para asegurar tu lugar!  \nNo pierdas esta oportunidad de conocer las últimas tendencias y perspectivas en la 4ta. Revolución Industrial. ¡Te esperamos!
URL:https://adoarh.org/evento/hacia-la-nueva-naturaleza-los-impactos-y-los-cambios-de-la-4ta-revolucion-industrial/
LOCATION:Zoom\, Virtual
CATEGORIES:ADOARH Talks
ATTACH;FMTTYPE=image/jpeg:https://adoarh.org/wp-content/uploads/ADOARH-TALKS-AGOSTO-10-2023.jpg
END:VEVENT
BEGIN:VEVENT
DTSTART;TZID=America/Santo_Domingo:20230729T090000
DTEND;TZID=America/Santo_Domingo:20230729T130000
DTSTAMP:20260423T182604
CREATED:20230901T204353Z
LAST-MODIFIED:20230901T204417Z
UID:14189-1690621200-1690635600@adoarh.org
SUMMARY:ABC de la supervisión de recursos humanos 2023
DESCRIPTION:Temas a tratar en este módulo:\n\nLas Relaciones Personales\nEI Liderazgo\nLa Comunicación Efectiva\nEI Trabajo en Equipo
URL:https://adoarh.org/evento/abc-de-la-supervision-de-recursos-humanos-2023/
LOCATION:Zoom\, Virtual
CATEGORIES:ADOARH Academy
ATTACH;FMTTYPE=image/jpeg:https://adoarh.org/wp-content/uploads/Adoarh-Academy-Modulo-10-Victor.jpg
END:VEVENT
BEGIN:VEVENT
DTSTART;TZID=America/Santo_Domingo:20230729T090000
DTEND;TZID=America/Santo_Domingo:20230729T130000
DTSTAMP:20260423T182604
CREATED:20230601T192321Z
LAST-MODIFIED:20230901T192541Z
UID:14105-1690621200-1690635600@adoarh.org
SUMMARY:ABC de la supervisión de recursos humanos 1ra 2023
DESCRIPTION:Temas a tratar en este módulo:\n\nLas Relaciones Personales\nEI Liderazgo\nLa Comunicación Efectiva\nEI Trabajo en Equipo
URL:https://adoarh.org/evento/abc-de-la-supervision-de-recursos-humanos-1ra-2023/
LOCATION:Zoom\, Virtual
CATEGORIES:ADOARH Academy
ATTACH;FMTTYPE=image/jpeg:https://adoarh.org/wp-content/uploads/Adoarh-Academy-Modulo-10-ABC-de-la-supervision-de-recursos-humanos.jpg
END:VEVENT
BEGIN:VEVENT
DTSTART;TZID=America/Santo_Domingo:20230727T153000
DTEND;TZID=America/Santo_Domingo:20230727T153000
DTSTAMP:20260423T182604
CREATED:20230725T192654Z
LAST-MODIFIED:20230725T193420Z
UID:13918-1690471800-1690471800@adoarh.org
SUMMARY:Presentación XXIV RESULTADOS ENCUESTA COMPENSACIÓN Y BENEFICIOS 2023
DESCRIPTION:📅 Marquen sus calendarios para el próximo 27 de julio a las 3:30 pm\, porque tenemos un ADOARH Talks imperdible: la Presentación XXIV de Resultados de la Encuesta de Compensación y Beneficios 2023. \n🖥️ La presentación de los resultados se llevará a cabo a través de Zoom. ¡Asegúrate de reservar tu lugar registrándote aquí!  \nDespués de inscribirte\, recibirás un correo electrónico de confirmación con todos los detalles para unirte al seminario web. \n🎙️ Estamos emocionados de contar con la presencia de Miguelina Veras\, Presidente de Macros Consulting\, quien nos presentará los resultados y las tendencias más relevantes en el ámbito de compensación y beneficios. \n¡No pierdas esta oportunidad de estar al tanto de las últimas novedades en materia de recursos humanos! Nos vemos en Adoarh Talks el 27 de julio.
URL:https://adoarh.org/evento/presentacion-xxiv-resultados-encuesta-compensacion-y-beneficios-2023/
LOCATION:Zoom\, Virtual
CATEGORIES:ADOARH Talks
ATTACH;FMTTYPE=image/jpeg:https://adoarh.org/wp-content/uploads/ADOARH-TALKS-JULIO-27-2023.jpg
END:VEVENT
BEGIN:VEVENT
DTSTART;TZID=America/Santo_Domingo:20230715T090000
DTEND;TZID=America/Santo_Domingo:20230715T130000
DTSTAMP:20260423T182604
CREATED:20230901T204233Z
LAST-MODIFIED:20230901T204233Z
UID:14186-1689411600-1689426000@adoarh.org
SUMMARY:Seguridad\, salud e higiene ocupacional 2023
DESCRIPTION:Temas a tratar en este módulo:\n\nComprensión del Reglamento 522-06\nMatriz de Riesgos Laborales\nImplementación del Programa de Higiene y Seguridad Laboral
URL:https://adoarh.org/evento/seguridad-salud-e-higiene-ocupacional-2023/
LOCATION:Zoom\, Virtual
CATEGORIES:ADOARH Academy
ATTACH;FMTTYPE=image/jpeg:https://adoarh.org/wp-content/uploads/Adoarh-Academy-Modulo-9-Nataniel.jpg
END:VEVENT
BEGIN:VEVENT
DTSTART;TZID=America/Santo_Domingo:20230617T090000
DTEND;TZID=America/Santo_Domingo:20230617T130000
DTSTAMP:20260423T182604
CREATED:20230901T204104Z
LAST-MODIFIED:20230901T204104Z
UID:14183-1686992400-1687006800@adoarh.org
SUMMARY:Como realizar una evaluación adecuada de desempeño 2023
DESCRIPTION:Temas a tratar en este módulo:\n\n15 Pasos para la Evaluación de Desempeño\nConocer los alcances del proceso para todos los involucrados\nSocializar y consensuar un modelo de evaluación para las organizaciones\, que asegure justicia y equidad para todos
URL:https://adoarh.org/evento/como-realizar-una-evaluacion-adecuada-de-desempeno-2023/
LOCATION:Zoom\, Virtual
CATEGORIES:ADOARH Academy
ATTACH;FMTTYPE=image/jpeg:https://adoarh.org/wp-content/uploads/Adoarh-Academy-Modulo-8-Indiana.jpg
END:VEVENT
BEGIN:VEVENT
DTSTART;TZID=America/Santo_Domingo:20230610T090000
DTEND;TZID=America/Santo_Domingo:20230610T130000
DTSTAMP:20260423T182604
CREATED:20230901T204622Z
LAST-MODIFIED:20230901T204644Z
UID:14192-1686387600-1686402000@adoarh.org
SUMMARY:Legislación laboral y manejo en el código de trabajo 2023
DESCRIPTION:Temas a tratar en este módulo:\n\nIdentificar los derechos y obligaciones de la empresa\nSistemas de consecuencias efectivas\nTipos de remuneraciones e indemnizaciones\nEjemplo de casos reales
URL:https://adoarh.org/evento/legislacion-laboral-y-manejo-en-el-codigo-de-trabajo-2023-2/
LOCATION:Zoom\, Virtual
CATEGORIES:ADOARH Academy
ATTACH;FMTTYPE=image/jpeg:https://adoarh.org/wp-content/uploads/Adoarh-Academy-Modulo-7-Miguel.jpg
END:VEVENT
BEGIN:VEVENT
DTSTART;TZID=America/Santo_Domingo:20231021T090000
DTEND;TZID=America/Santo_Domingo:20231021T130000
DTSTAMP:20260423T182604
CREATED:20230901T203928Z
LAST-MODIFIED:20230901T203928Z
UID:14180-1697878800-1697893200@adoarh.org
SUMMARY:Legislación laboral y manejo en el código de trabajo 2023
DESCRIPTION:Temas a tratar en este módulo:\n\nIdentificar los derechos y obligaciones de la empresa\nSistemas de consecuencias efectivas\nTipos de remuneraciones e indemnizaciones\nEjemplo de casos reales
URL:https://adoarh.org/evento/legislacion-laboral-y-manejo-en-el-codigo-de-trabajo-2023/
LOCATION:Zoom\, Virtual
CATEGORIES:ADOARH Academy
ATTACH;FMTTYPE=image/jpeg:https://adoarh.org/wp-content/uploads/Adoarh-Academy-Modulo-7-Lissette.jpg
END:VEVENT
BEGIN:VEVENT
DTSTART;TZID=America/Santo_Domingo:20230527T090000
DTEND;TZID=America/Santo_Domingo:20230527T130000
DTSTAMP:20260423T182604
CREATED:20230901T203733Z
LAST-MODIFIED:20230914T184514Z
UID:14177-1685178000-1685192400@adoarh.org
SUMMARY:Proceso para el desarrollo de las personas 2023
DESCRIPTION:
URL:https://adoarh.org/evento/proceso-para-el-desarrollo-de-las-personas-2023/
LOCATION:Zoom\, Virtual
CATEGORIES:ADOARH Academy
ATTACH;FMTTYPE=image/jpeg:https://adoarh.org/wp-content/uploads/Adoarh-Academy-Modulo-6-Lissette.jpg
END:VEVENT
BEGIN:VEVENT
DTSTART;TZID=America/Santo_Domingo:20230513T090000
DTEND;TZID=America/Santo_Domingo:20230513T130000
DTSTAMP:20260423T182604
CREATED:20230901T203618Z
LAST-MODIFIED:20230914T171907Z
UID:14174-1683968400-1683982800@adoarh.org
SUMMARY:Conceptos y componentes de la compensación 2023
DESCRIPTION:
URL:https://adoarh.org/evento/conceptos-y-componentes-de-la-compensacion-2023/
LOCATION:Zoom\, Virtual
CATEGORIES:ADOARH Academy
ATTACH;FMTTYPE=image/jpeg:https://adoarh.org/wp-content/uploads/Adoarh-Academy-Modulo-5-Evelyn.jpg
END:VEVENT
BEGIN:VEVENT
DTSTART;TZID=America/Santo_Domingo:20230429T090000
DTEND;TZID=America/Santo_Domingo:20230429T130000
DTSTAMP:20260423T182604
CREATED:20230901T203512Z
LAST-MODIFIED:20230901T203512Z
UID:14171-1682758800-1682773200@adoarh.org
SUMMARY:Nomina\, Modalidades de Pagos y Aplicaciones 2023
DESCRIPTION:
URL:https://adoarh.org/evento/nomina-modalidades-de-pagos-y-aplicaciones-2023/
LOCATION:Zoom\, Virtual
CATEGORIES:ADOARH Academy
ATTACH;FMTTYPE=image/jpeg:https://adoarh.org/wp-content/uploads/Adoarh-Academy-Modulo-4-Martha.jpg
END:VEVENT
BEGIN:VEVENT
DTSTART;TZID=America/Santo_Domingo:20230419T153000
DTEND;TZID=America/Santo_Domingo:20230419T153000
DTSTAMP:20260423T182604
CREATED:20230509T194324Z
LAST-MODIFIED:20230901T194327Z
UID:13489-1681918200-1681918200@adoarh.org
SUMMARY:Conferencia: Del Vuca al Bani 1ra 2023
DESCRIPTION:
URL:https://adoarh.org/evento/conferencia-del-vuca-al-bani-1ra-2023/
LOCATION:Zoom\, Virtual
CATEGORIES:ADOARH Talks
ATTACH;FMTTYPE=image/jpeg:https://adoarh.org/wp-content/uploads/Extra-Adoarh-Talks.jpg
END:VEVENT
BEGIN:VEVENT
DTSTART;TZID=America/Santo_Domingo:20230415T090000
DTEND;TZID=America/Santo_Domingo:20230415T130000
DTSTAMP:20260423T182604
CREATED:20230901T203354Z
LAST-MODIFIED:20230901T203354Z
UID:14168-1681549200-1681563600@adoarh.org
SUMMARY:Cómo Elabarorar Descripciones de Puestos 2023
DESCRIPTION:
URL:https://adoarh.org/evento/como-elabarorar-descripciones-de-puestos-2023/
LOCATION:Zoom\, Virtual
CATEGORIES:ADOARH Academy
ATTACH;FMTTYPE=image/jpeg:https://adoarh.org/wp-content/uploads/Adoarh-Academy-Modulo-3-Tania.jpg
END:VEVENT
BEGIN:VEVENT
DTSTART;TZID=America/Santo_Domingo:20230325T090000
DTEND;TZID=America/Santo_Domingo:20230325T130000
DTSTAMP:20260423T182604
CREATED:20230901T203024Z
LAST-MODIFIED:20230901T203024Z
UID:14165-1679734800-1679749200@adoarh.org
SUMMARY:Entrevista Basada en Competencia 2023
DESCRIPTION:
URL:https://adoarh.org/evento/entrevista-basada-en-competencia-2023/
LOCATION:Zoom\, Virtual
CATEGORIES:ADOARH Academy
ATTACH;FMTTYPE=image/jpeg:https://adoarh.org/wp-content/uploads/Adoarh-Academy-Modulo-2-Neyda.jpg
END:VEVENT
BEGIN:VEVENT
DTSTART;TZID=America/Santo_Domingo:20230819T090000
DTEND;TZID=America/Santo_Domingo:20230819T130000
DTSTAMP:20260423T182604
CREATED:20230901T202549Z
LAST-MODIFIED:20230901T202549Z
UID:14162-1692435600-1692450000@adoarh.org
SUMMARY:Selección a la medida 2023
DESCRIPTION:Temas a tratar en este módulo:\n\nCómo atraer buenos candidatos.\nFuentes creativas de captación de talentos.\nHerramientas de evaluaciones psicométricas en línea.\nSeleccionando a los mejores para la terna.
URL:https://adoarh.org/evento/seleccion-a-la-medida-2023/
LOCATION:Zoom\, Virtual
CATEGORIES:ADOARH Academy
ATTACH;FMTTYPE=image/jpeg:https://adoarh.org/wp-content/uploads/Adoarh-Academy-Modulo-1-Lourdes.jpg
END:VEVENT
BEGIN:VEVENT
DTSTART;VALUE=DATE:20230311
DTEND;VALUE=DATE:20230730
DTSTAMP:20260423T182604
CREATED:20230418T153133Z
LAST-MODIFIED:20230913T143458Z
UID:12618-1678492800-1690675199@adoarh.org
SUMMARY:Calendario Módulo Adoarh Academy 2023
DESCRIPTION:
URL:https://adoarh.org/evento/calendario-modulo-adoarh-academy-1ra-2023/
CATEGORIES:ADOARH Academy
ATTACH;FMTTYPE=image/jpeg:https://adoarh.org/wp-content/uploads/Calendario-Modulos-Adoarh-Academy-2023.jpg
END:VEVENT
BEGIN:VEVENT
DTSTART;TZID=America/Santo_Domingo:20230223T180000
DTEND;TZID=America/Santo_Domingo:20230223T180000
DTSTAMP:20260423T182604
CREATED:20230725T184809Z
LAST-MODIFIED:20230725T185243Z
UID:13907-1677175200-1677175200@adoarh.org
SUMMARY:Onboarding al Mundo del Vino
DESCRIPTION:ONBOARDING AL MUNDO DEL VINO\nCon Rocío Celeste -EMBAJADORA DE MARCAS DE CASA BRUGAL- \n23 DE FEBRERO – SANTIAGO\nCentro de Convenciones y Cultura Dominicana \n9 DE MARZO – SANTO DOMINGO \nPatrocinado por:\nCASA BRUGAL\nSIEMBRA
URL:https://adoarh.org/evento/onboarding-al-mundo-del-vino/
LOCATION:Centro de Convenciones y Cultura Dominicana\, República Dominicana
CATEGORIES:After Work
ATTACH;FMTTYPE=image/jpeg:https://adoarh.org/wp-content/uploads/Adoarh-Extra-01-Mundo-del-Vino-23-FEB-2023.jpg
ORGANIZER;CN="ADOARH":MAILTO:info@adoarh.org
END:VEVENT
BEGIN:VEVENT
DTSTART;TZID=America/Santo_Domingo:20230223T180000
DTEND;TZID=America/Santo_Domingo:20230223T180000
DTSTAMP:20260423T182604
CREATED:20230725T184809Z
LAST-MODIFIED:20230725T185243Z
UID:13907-1677175200-1677175200@adoarh.org
SUMMARY:Onboarding al Mundo del Vino
DESCRIPTION:ONBOARDING AL MUNDO DEL VINO\nCon Rocío Celeste -EMBAJADORA DE MARCAS DE CASA BRUGAL- \n23 DE FEBRERO – SANTIAGO\nCentro de Convenciones y Cultura Dominicana \n9 DE MARZO – SANTO DOMINGO \nPatrocinado por:\nCASA BRUGAL\nSIEMBRA
URL:https://adoarh.org/evento/onboarding-al-mundo-del-vino/
LOCATION:Centro de Convenciones y Cultura Dominicana\, República Dominicana
CATEGORIES:After Work
ATTACH;FMTTYPE=image/jpeg:https://adoarh.org/wp-content/uploads/Adoarh-Extra-01-Mundo-del-Vino-23-FEB-2023.jpg
ORGANIZER;CN="ADOARH":MAILTO:info@adoarh.org
END:VEVENT
BEGIN:VEVENT
DTSTART;TZID=America/Santo_Domingo:20230207T153000
DTEND;TZID=America/Santo_Domingo:20230207T153000
DTSTAMP:20260423T182604
CREATED:20230509T184321Z
LAST-MODIFIED:20230509T192342Z
UID:13485-1675783800-1675783800@adoarh.org
SUMMARY:El servicio de OUTPLACEMENT en República Dominicana
DESCRIPTION:
URL:https://adoarh.org/evento/el-servicio-de-outplacement-en-republica-dominicana/
LOCATION:Youtube
CATEGORIES:ADOARH Talks
ATTACH;FMTTYPE=image/jpeg:https://adoarh.org/wp-content/uploads/ADOARH-TALKS-INGRID.jpg
END:VEVENT
BEGIN:VEVENT
DTSTART;TZID=America/Santo_Domingo:20221126T090000
DTEND;TZID=America/Santo_Domingo:20221126T130000
DTSTAMP:20260423T182604
CREATED:20230508T154153Z
LAST-MODIFIED:20230508T160238Z
UID:13418-1669453200-1669467600@adoarh.org
SUMMARY:El ABC de la supervisión de gestión de recursos humanos
DESCRIPTION:
URL:https://adoarh.org/evento/el-abc-de-la-supervision-de-gestion-de-recursos-humanos/
LOCATION:Zoom\, Virtual
CATEGORIES:ADOARH Academy
ATTACH;FMTTYPE=image/png:https://adoarh.org/wp-content/uploads/26-nov.png
END:VEVENT
BEGIN:VEVENT
DTSTART;TZID=America/Santo_Domingo:20221112T080000
DTEND;TZID=America/Santo_Domingo:20221112T170000
DTSTAMP:20260423T182604
CREATED:20230508T160121Z
LAST-MODIFIED:20240319T155147Z
UID:13434-1668240000-1668272400@adoarh.org
SUMMARY:Seguridad\, salud e higiene ocupacional
DESCRIPTION:
URL:https://adoarh.org/evento/seguridad-salud-e-higiene-ocupacional-2022/
LOCATION:Zoom\, Virtual
CATEGORIES:ADOARH Academy
ATTACH;FMTTYPE=image/png:https://adoarh.org/wp-content/uploads/12-nov.png
END:VEVENT
BEGIN:VEVENT
DTSTART;TZID=America/Santo_Domingo:20221029T080000
DTEND;TZID=America/Santo_Domingo:20221029T170000
DTSTAMP:20260423T182604
CREATED:20230508T155946Z
LAST-MODIFIED:20230508T155946Z
UID:13430-1667030400-1667062800@adoarh.org
SUMMARY:Cómo realizar una adecuada evaluación de desempeño
DESCRIPTION:
URL:https://adoarh.org/evento/como-realizar-una-adecuada-evaluacion-de-desempeno/
LOCATION:Zoom\, Virtual
CATEGORIES:ADOARH Academy
ATTACH;FMTTYPE=image/png:https://adoarh.org/wp-content/uploads/29-OCT.png
END:VEVENT
END:VCALENDAR